BEGIN:VCALENDAR
VERSION:2.0
PRODID:-//Stratis iCal API//FR
CALSCALE:GREGORIAN
X-WR-CALNAME:Escape game 5R-0D
BEGIN:VEVENT
UID:event-25210
SUMMARY:Escape game 5R-0D
DESCRIPTION:Le service Économie Circulaire et Prévention des Déchets de l'agglo sera présent aux portes ouvertes de l'Atelier solidaire du 1446. L'Atelier solidaire proposera une mini kermesse avec différentes activités dont l'escape game 5R-0D : un outil à la fois ludique et instructif sur le thème du zéro déchet.
DTSTAMP:20260423T083604Z
DTSTART:20260509T120000Z
DTEND:20260509T160000Z
LOCATION:Béthune
STATUS:CONFIRMED
SEQUENCE:4
BEGIN:VALARM
TRIGGER:-PT30M
DESCRIPTION:Escape game 5R-0D
ACTION:DISPLAY
END:VALARM
END:VEVENT
END:VCALENDAR